BEGIN:VCALENDAR
VERSION:2.0
PRODID:-//Park Vijversburg - ECPv6.15.20//NONSGML v1.0//EN
CALSCALE:GREGORIAN
METHOD:PUBLISH
X-ORIGINAL-URL:https://vijversburg.nl
X-WR-CALDESC:Evenementen voor Park Vijversburg
REFRESH-INTERVAL;VALUE=DURATION:PT1H
X-Robots-Tag:noindex
X-PUBLISHED-TTL:PT1H
BEGIN:VTIMEZONE
TZID:Europe/Amsterdam
BEGIN:DAYLIGHT
TZOFFSETFROM:+0100
TZOFFSETTO:+0200
TZNAME:CEST
DTSTART:20210328T010000
END:DAYLIGHT
BEGIN:STANDARD
TZOFFSETFROM:+0200
TZOFFSETTO:+0100
TZNAME:CET
DTSTART:20211031T010000
END:STANDARD
BEGIN:DAYLIGHT
TZOFFSETFROM:+0100
TZOFFSETTO:+0200
TZNAME:CEST
DTSTART:20220327T010000
END:DAYLIGHT
BEGIN:STANDARD
TZOFFSETFROM:+0200
TZOFFSETTO:+0100
TZNAME:CET
DTSTART:20221030T010000
END:STANDARD
BEGIN:DAYLIGHT
TZOFFSETFROM:+0100
TZOFFSETTO:+0200
TZNAME:CEST
DTSTART:20230326T010000
END:DAYLIGHT
BEGIN:STANDARD
TZOFFSETFROM:+0200
TZOFFSETTO:+0100
TZNAME:CET
DTSTART:20231029T010000
END:STANDARD
END:VTIMEZONE
BEGIN:VEVENT
DTSTART;TZID=Europe/Amsterdam:20220829T140000
DTEND;TZID=Europe/Amsterdam:20220829T153000
DTSTAMP:20260425T121819
CREATED:20220712T151722Z
LAST-MODIFIED:20221010T120929Z
UID:2101-1661781600-1661787000@vijversburg.nl
SUMMARY:Rondleiding
DESCRIPTION:Nacht van de Nacht \nZaterdag\, 29 oktober\, organiseren wij samen met de Recreatie Vereniging Tytsjerk wederom de Nacht van de Nacht. \nOpgave via info@vijversburg.nl \n\nwandeling duurt een uur en is geschikt voor kinderen van 4-12 jaar onder begeleiding van u als ouder/verzorger\nopgave via info@vijversburg.nl\nprijs € 3 p.p.
URL:https://vijversburg.nl/event/rondleiding-9/
CATEGORIES:Event,Rondleiding
END:VEVENT
BEGIN:VEVENT
DTSTART;TZID=Europe/Amsterdam:20220822T140000
DTEND;TZID=Europe/Amsterdam:20220822T153000
DTSTAMP:20260425T121819
CREATED:20220712T151630Z
LAST-MODIFIED:20220718T132625Z
UID:2099-1661176800-1661182200@vijversburg.nl
SUMMARY:Rondleiding
DESCRIPTION:Rondleiding: Schatten van Vijversburg \nMaandag 22 augustus van 14.00 uur\, start hoofdingang \nGa met de rondleider op pad en ontdek schatten van\nVijversburg: waar staat de oudste boom en waar is de\ngrot van gemaakt? Woont de kluizenaar nog steeds in\nzijn hut en waarom wordt het park ook het Bos van\nYpeij genoemd? \nKrijg op deze en nog heel veel andere vragen een\nantwoord tijdens de rondleiding. \nOpgave is niet nodig\, vol=vol\nDe rondleiding wordt gratis aangeboden. Wel dient\nmen in het bezit te zijn van een geldig toegangsbewijs\ntot het park. \n\nstart om 14.00 uur bij de hoofdingang\nopgave niet nodig\ngratis deelname
URL:https://vijversburg.nl/event/rondleiding-8/
CATEGORIES:Event,Rondleiding
ATTACH;FMTTYPE=image/jpeg:https://vijversburg.nl/wp-content/uploads/2022/07/Bachus.jpg
END:VEVENT
BEGIN:VEVENT
DTSTART;TZID=Europe/Amsterdam:20220815T140000
DTEND;TZID=Europe/Amsterdam:20220815T153000
DTSTAMP:20260425T121819
CREATED:20220712T151545Z
LAST-MODIFIED:20220718T132608Z
UID:2097-1660572000-1660577400@vijversburg.nl
SUMMARY:Rondleiding
DESCRIPTION:Rondleiding: Schatten van Vijversburg \nMaandag 15 augustus van 14.00 uur\, start hoofdingang \nGa met de rondleider op pad en ontdek schatten van\nVijversburg: waar staat de oudste boom en waar is de\ngrot van gemaakt? Woont de kluizenaar nog steeds in\nzijn hut en waarom wordt het park ook het Bos van\nYpeij genoemd? \nKrijg op deze en nog heel veel andere vragen een\nantwoord tijdens de rondleiding. \nOpgave is niet nodig\, vol=vol\nDe rondleiding wordt gratis aangeboden. Wel dient\nmen in het bezit te zijn van een geldig toegangsbewijs\ntot het park. \n\nstart om 14.00 uur bij de hoofdingang\nopgave niet nodig\ngratis deelname
URL:https://vijversburg.nl/event/rondleiding-7/
CATEGORIES:Event,Rondleiding
ATTACH;FMTTYPE=image/jpeg:https://vijversburg.nl/wp-content/uploads/2022/07/Bachus.jpg
END:VEVENT
BEGIN:VEVENT
DTSTART;TZID=Europe/Amsterdam:20220808T140000
DTEND;TZID=Europe/Amsterdam:20220808T153000
DTSTAMP:20260425T121819
CREATED:20220712T151457Z
LAST-MODIFIED:20220718T132535Z
UID:2095-1659967200-1659972600@vijversburg.nl
SUMMARY:Rondleiding
DESCRIPTION:Rondleiding: Schatten van Vijversburg \nMaandag 8 augustus van 14.00 uur\, start hoofdingang \nGa met de rondleider op pad en ontdek schatten van\nVijversburg: waar staat de oudste boom en waar is de\ngrot van gemaakt? Woont de kluizenaar nog steeds in\nzijn hut en waarom wordt het park ook het Bos van\nYpeij genoemd? \nKrijg op deze en nog heel veel andere vragen een\nantwoord tijdens de rondleiding. \nOpgave is niet nodig\, vol=vol\nDe rondleiding wordt gratis aangeboden. Wel dient\nmen in het bezit te zijn van een geldig toegangsbewijs\ntot het park. \n\nstart om 14.00 uur bij de hoofdingang\nopgave niet nodig\ngratis deelname
URL:https://vijversburg.nl/event/rondleiding-6/
CATEGORIES:Event,Rondleiding
ATTACH;FMTTYPE=image/jpeg:https://vijversburg.nl/wp-content/uploads/2022/07/Bachus.jpg
END:VEVENT
BEGIN:VEVENT
DTSTART;TZID=Europe/Amsterdam:20220801T140000
DTEND;TZID=Europe/Amsterdam:20220801T153000
DTSTAMP:20260425T121819
CREATED:20220712T151404Z
LAST-MODIFIED:20220718T132508Z
UID:2093-1659362400-1659367800@vijversburg.nl
SUMMARY:Rondleiding
DESCRIPTION:Rondleiding: Schatten van Vijversburg \nMaandag 1 augustus van 14.00 uur\, start hoofdingang \nGa met de rondleider op pad en ontdek schatten van\nVijversburg: waar staat de oudste boom en waar is de\ngrot van gemaakt? Woont de kluizenaar nog steeds in\nzijn hut en waarom wordt het park ook het Bos van\nYpeij genoemd? \nKrijg op deze en nog heel veel andere vragen een\nantwoord tijdens de rondleiding. \nOpgave is niet nodig\, vol=vol\nDe rondleiding wordt gratis aangeboden. Wel dient\nmen in het bezit te zijn van een geldig toegangsbewijs\ntot het park. \n\nstart om 14.00 uur bij de hoofdingang\nopgave niet nodig\ngratis deelname
URL:https://vijversburg.nl/event/rondleiding-5/
CATEGORIES:Event,Rondleiding
ATTACH;FMTTYPE=image/jpeg:https://vijversburg.nl/wp-content/uploads/2022/07/Bachus.jpg
END:VEVENT
BEGIN:VEVENT
DTSTART;TZID=Europe/Amsterdam:20220725T140000
DTEND;TZID=Europe/Amsterdam:20220725T153000
DTSTAMP:20260425T121819
CREATED:20220712T151221Z
LAST-MODIFIED:20220718T132439Z
UID:2091-1658757600-1658763000@vijversburg.nl
SUMMARY:Rondleiding
DESCRIPTION:Rondleiding: Schatten van Vijversburg \nMaandag 25 juli van 14.00 uur\, start hoofdingang \nGa met de rondleider op pad en ontdek schatten van\nVijversburg: waar staat de oudste boom en waar is de\ngrot van gemaakt? Woont de kluizenaar nog steeds in\nzijn hut en waarom wordt het park ook het Bos van\nYpeij genoemd? \nKrijg op deze en nog heel veel andere vragen een\nantwoord tijdens de rondleiding. \nOpgave is niet nodig\, vol=vol\nDe rondleiding wordt gratis aangeboden. Wel dient\nmen in het bezit te zijn van een geldig toegangsbewijs\ntot het park. \n\nstart om 14.00 uur bij de hoofdingang\nopgave niet nodig\ngratis deelname
URL:https://vijversburg.nl/event/rondleiding-4/
CATEGORIES:Event,Rondleiding
ATTACH;FMTTYPE=image/jpeg:https://vijversburg.nl/wp-content/uploads/2022/07/Bachus.jpg
END:VEVENT
BEGIN:VEVENT
DTSTART;TZID=Europe/Amsterdam:20220718T140000
DTEND;TZID=Europe/Amsterdam:20220718T153000
DTSTAMP:20260425T121819
CREATED:20220712T150130Z
LAST-MODIFIED:20220718T132346Z
UID:2086-1658152800-1658158200@vijversburg.nl
SUMMARY:Rondleiding
DESCRIPTION:Rondleiding: Schatten van Vijversburg \nMaandag 18 juli van 14.00 uur\, start hoofdingang \nGa met de rondleider op pad en ontdek schatten van\nVijversburg: waar staat de oudste boom en waar is de\ngrot van gemaakt? Woont de kluizenaar nog steeds in\nzijn hut en waarom wordt het park ook het Bos van\nYpeij genoemd? \nKrijg op deze en nog heel veel andere vragen een\nantwoord tijdens de rondleiding. \nOpgave is niet nodig\, vol=vol\nDe rondleiding wordt gratis aangeboden. Wel dient\nmen in het bezit te zijn van een geldig toegangsbewijs\ntot het park. \n\nstart om 14.00 uur bij de hoofdingang\nopgave niet nodig\ngratis deelname
URL:https://vijversburg.nl/event/rondleiding-3/
CATEGORIES:Event,Rondleiding
ATTACH;FMTTYPE=image/jpeg:https://vijversburg.nl/wp-content/uploads/2022/07/Bachus.jpg
END:VEVENT
BEGIN:VEVENT
DTSTART;TZID=Europe/Amsterdam:20220711T140000
DTEND;TZID=Europe/Amsterdam:20220711T153000
DTSTAMP:20260425T121819
CREATED:20220707T134705Z
LAST-MODIFIED:20220712T151245Z
UID:1572-1657548000-1657553400@vijversburg.nl
SUMMARY:Rondleiding
DESCRIPTION:Rondleiding: Schatten van Vijversburg \nMaandag 11 juli van 14.00 uur\, start hoofdingang\nGa mee met de rondleiding op maandag 11 juli en\nbewonder de Schatten van Vijversburg. \nGa met de rondleider op pad en ontdek schatten van\nVijversburg: waar staat de oudste boom en waar is de\ngrot van gemaakt? Woont de kluizenaar nog steeds in\nzijn hut en waarom wordt het park ook het Bos van\nYpeij genoemd? \nKrijg op deze en nog heel veel andere vragen een\nantwoord tijdens de rondleiding die om 14.00 start\nvanaf de hoofdingang. \nOpgave is niet nodig\, vol=vol. De rondleiding wordt\ngratis aangeboden. Wel dient men in het bezit te zijn\nvan een geldig toegangsbewijs tot het park. \n\nStart om 14.00 uur bij de hoofdingang\nopgave niet nodig.
URL:https://vijversburg.nl/event/rondleiding-2/
CATEGORIES:Event,Rondleiding
ATTACH;FMTTYPE=image/jpeg:https://vijversburg.nl/wp-content/uploads/2022/07/Bachus.jpg
END:VEVENT
END:VCALENDAR