BEGIN:VCALENDAR
VERSION:2.0
PRODID:-//Park Vijversburg - ECPv6.15.13//NONSGML v1.0//EN
CALSCALE:GREGORIAN
METHOD:PUBLISH
X-ORIGINAL-URL:https://vijversburg.nl
X-WR-CALDESC:Evenementen voor Park Vijversburg
REFRESH-INTERVAL;VALUE=DURATION:PT1H
X-Robots-Tag:noindex
X-PUBLISHED-TTL:PT1H
BEGIN:VTIMEZONE
TZID:Europe/Amsterdam
BEGIN:DAYLIGHT
TZOFFSETFROM:+0100
TZOFFSETTO:+0200
TZNAME:CEST
DTSTART:20230326T010000
END:DAYLIGHT
BEGIN:STANDARD
TZOFFSETFROM:+0200
TZOFFSETTO:+0100
TZNAME:CET
DTSTART:20231029T010000
END:STANDARD
BEGIN:DAYLIGHT
TZOFFSETFROM:+0100
TZOFFSETTO:+0200
TZNAME:CEST
DTSTART:20240331T010000
END:DAYLIGHT
BEGIN:STANDARD
TZOFFSETFROM:+0200
TZOFFSETTO:+0100
TZNAME:CET
DTSTART:20241027T010000
END:STANDARD
BEGIN:DAYLIGHT
TZOFFSETFROM:+0100
TZOFFSETTO:+0200
TZNAME:CEST
DTSTART:20250330T010000
END:DAYLIGHT
BEGIN:STANDARD
TZOFFSETFROM:+0200
TZOFFSETTO:+0100
TZNAME:CET
DTSTART:20251026T010000
END:STANDARD
BEGIN:DAYLIGHT
TZOFFSETFROM:+0100
TZOFFSETTO:+0200
TZNAME:CEST
DTSTART:20260329T010000
END:DAYLIGHT
BEGIN:STANDARD
TZOFFSETFROM:+0200
TZOFFSETTO:+0100
TZNAME:CET
DTSTART:20261025T010000
END:STANDARD
END:VTIMEZONE
BEGIN:VEVENT
DTSTART;TZID=Europe/Amsterdam:20250709T100000
DTEND;TZID=Europe/Amsterdam:20250824T160000
DTSTAMP:20260419T193650
CREATED:20250710T152655Z
LAST-MODIFIED:20250825T094406Z
UID:9038-1752055200-1756051200@vijversburg.nl
SUMMARY:Park der Fabelen
DESCRIPTION:Stap deze zomer een andere wereld binnen vol fantasie en mysterie \n\n\n\nIn Park Vijversburg zijn maar liefst 18 levensgrote fabelwezens te ontdekken!Verspreid door het park duiken ze op tussen de bomen\, in het gras of aan de waterkant: imposante draken\, nieuwsgierige eenhoorns en geheimzinnige bosnimfen. Elk fabelwezen heeft een eigen verhaal – soms ontroerend\, soms spannend. Vaak verwijzen deze wezens naar bestaande diersoorten en vormen zij de inspiratie voor talloze bijzondere vertellingen\, mythen en legendes uit culturen over de hele wereld.
URL:https://vijversburg.nl/event/park-der-fabelen/
CATEGORIES:Event,Expositie
ATTACH;FMTTYPE=image/png:https://vijversburg.nl/wp-content/uploads/2025/06/Event-blok-Home-Park-der-Fabelen.png
END:VEVENT
BEGIN:VEVENT
DTSTART;TZID=Europe/Amsterdam:20240520T110000
DTEND;TZID=Europe/Amsterdam:20240623T170000
DTSTAMP:20260419T193650
CREATED:20240419T124451Z
LAST-MODIFIED:20240425T111649Z
UID:6511-1716202800-1719162000@vijversburg.nl
SUMMARY:Lente-expositie “Zee van bloemen”
DESCRIPTION:De expositie is te bezoeken in het Paviljoen op zaterdag en zondag en is geopend van 11.00 – 17.00 uur. \n\n\n\nVoor de expositie “Zee van bloemen” fotografeerde Irene Feenstra de achttien karakteristieke stinzenbloemen die als uitgangspunt zijn genomen voor de stinzenflora-monitor. Zij fotografeerde de stinzenbloemen gedurende de gehele bloeiperiode en verwerkte de genomen foto’s in een viertal bloemstillevens: Martenastate\, Dekemastate\, Harstastate en Sjuxmastate. Alle vier states heeft ze meerdere keren bezocht om zodoende de mooiste stinzenbloemen vast te leggen. \n\n\n\n\n\nIn haar werken combineert ze bloemen die in werkelijkheid niet in dezelfde periode bloeien. Zoals de 17e eeuwse meesterschilders de tulp combineerden met zomer -en najaarsbloeiers\, zo heeft Irene vrijwel alle bloemen van de monitor steeds in één van de beelden verwerkt. Dit resulteerde in vier prachtige stillevens. Naast de stillevens heeft Irene de expositie voorzien van informatie over stinzenflora. Thema’s die langskomen zijn de Engelse landschapstuin\, het ontstaan van de stinzenflora\, biodiversiteit en de botanische kunstenaar. In 2004 studeerde Irene aan de Fotovakschool in Apeldoorn. Na een aantal jaren te hebben gewerkt als portretfotograaf raakte ze steeds meer geïnteresseerd in beeldbewerking en artistieke fotografie. Met de vier bloemstillevens deelt ze graag de schoonheid van stinzenbloemen en het Friese culturele erfgoed. \n\n\n\nDe expositie bevindt zich in het glazen Paviljoen. Dit minimalistische gebouw is ontworpen door de Rotterdamse architect Marieke Kums en de Japanse architect Junya Ishigami. Het gebouw is elegant verbonden aan Villa Vijversburg en glooit langs het lijnenspel van de Engelse landschapstuin. Het Paviljoen is geopend op zaterdag en zondag van 11.00 – 17.00 uur.
URL:https://vijversburg.nl/event/voorjaarsexpositie-zee-van-bloemen/
CATEGORIES:Expositie
ATTACH;FMTTYPE=image/jpeg:https://vijversburg.nl/wp-content/uploads/2024/04/cropHarstastate.jpg
END:VEVENT
END:VCALENDAR