BEGIN:VCALENDAR
VERSION:2.0
PRODID:-//Park Vijversburg - ECPv6.15.20//NONSGML v1.0//EN
CALSCALE:GREGORIAN
METHOD:PUBLISH
X-WR-CALNAME:Park Vijversburg
X-ORIGINAL-URL:https://vijversburg.nl
X-WR-CALDESC:Evenementen voor Park Vijversburg
REFRESH-INTERVAL;VALUE=DURATION:PT1H
X-Robots-Tag:noindex
X-PUBLISHED-TTL:PT1H
BEGIN:VTIMEZONE
TZID:Europe/Amsterdam
BEGIN:DAYLIGHT
TZOFFSETFROM:+0100
TZOFFSETTO:+0200
TZNAME:CEST
DTSTART:20240331T010000
END:DAYLIGHT
BEGIN:STANDARD
TZOFFSETFROM:+0200
TZOFFSETTO:+0100
TZNAME:CET
DTSTART:20241027T010000
END:STANDARD
BEGIN:DAYLIGHT
TZOFFSETFROM:+0100
TZOFFSETTO:+0200
TZNAME:CEST
DTSTART:20250330T010000
END:DAYLIGHT
BEGIN:STANDARD
TZOFFSETFROM:+0200
TZOFFSETTO:+0100
TZNAME:CET
DTSTART:20251026T010000
END:STANDARD
BEGIN:DAYLIGHT
TZOFFSETFROM:+0100
TZOFFSETTO:+0200
TZNAME:CEST
DTSTART:20260329T010000
END:DAYLIGHT
BEGIN:STANDARD
TZOFFSETFROM:+0200
TZOFFSETTO:+0100
TZNAME:CET
DTSTART:20261025T010000
END:STANDARD
END:VTIMEZONE
BEGIN:VEVENT
DTSTART;TZID=Europe/Amsterdam:20250704T160000
DTEND;TZID=Europe/Amsterdam:20250704T160000
DTSTAMP:20260426T001303
CREATED:20250331T154040Z
LAST-MODIFIED:20250704T144755Z
UID:7972-1751644800-1751644800@vijversburg.nl
SUMMARY:Imaginarium Festival
DESCRIPTION:Imaginarium Festival is het gezelligste\, fantasierijkste festival van Friesland op 4\, 5 en 6 juli 2025. Drie dagen lang kunnen bezoekers genieten van muziek en spektakel tussen de oude eiken van ParkVijversburg in Tytsjerk. Met Rapalje als headliner is het muziekprogramma sowieso al een feestje. Tel daar de grote\, ambachtelijke markt\, familievriendelijke activiteiten en de vele prachtig verklede gasten bij op\, en er is voor iedereen een weekend lang genoegte beleven en te ervaren. \n\n\n\nHet festival begint op vrijdagavond met live muziek in het sfeervolle middeleeuwse dorp. Op zaterdag- en zondagmiddag staat het festival in het teken van families. Op de grote\, ambachtelijke markt vind je alles van harnassen tot steampunk kleding\, vikingsieraden en allerlei handgemaakte hebbedingen. \n\n\n\nProfessionele en amateur cosplayers lopen rond in de meest fantastische\, zelfgemaakte kostuums. Van ridders en Victoriaanse adel tot steampunk royalty\, elfen\, trollen en karakters uit films. Ook kun je je laten schminken\, leren boogschieten of de technieken van het metaalsmeden ontdekken. Reenactment groepen brengen de geschiedenis tot leven en maken realiteit van het verleden.  \n\n\n\nTicketsKaarten voor het festival zijn te koop via www.imaginarium-festival.nl. Kinderen tot 12 jaar hebben gratis toegang. \n\n\n\nOpeningstijden: \n\n\n\n\nvrijdag 4 juli van 16:00 tot 23:00 uur\n\n\n\nzaterdag 5 juli van 11:00 tot 23:00 uur\n\n\n\nzondag 6 juli van 11:00 tot 19:00 uur\n\n\n\n\nToegang tot het park is via de “personeelsingang” gelijk na het kruispunt E10. Het park is tijdens het festival gesloten voor reguliere toegang. De hoofdingang en de ingang via de Groene Ster zijn gesloten.
URL:https://vijversburg.nl/event/imaginarium-festival-2/
CATEGORIES:Event
ATTACH;FMTTYPE=image/jpeg:https://vijversburg.nl/wp-content/uploads/2025/03/Imaginarium-2024-portretten-3384.jpg
END:VEVENT
BEGIN:VEVENT
DTSTART;TZID=Europe/Amsterdam:20250709T100000
DTEND;TZID=Europe/Amsterdam:20250824T160000
DTSTAMP:20260426T001303
CREATED:20250710T152655Z
LAST-MODIFIED:20250825T094406Z
UID:9038-1752055200-1756051200@vijversburg.nl
SUMMARY:Park der Fabelen
DESCRIPTION:Stap deze zomer een andere wereld binnen vol fantasie en mysterie \n\n\n\nIn Park Vijversburg zijn maar liefst 18 levensgrote fabelwezens te ontdekken!Verspreid door het park duiken ze op tussen de bomen\, in het gras of aan de waterkant: imposante draken\, nieuwsgierige eenhoorns en geheimzinnige bosnimfen. Elk fabelwezen heeft een eigen verhaal – soms ontroerend\, soms spannend. Vaak verwijzen deze wezens naar bestaande diersoorten en vormen zij de inspiratie voor talloze bijzondere vertellingen\, mythen en legendes uit culturen over de hele wereld.
URL:https://vijversburg.nl/event/park-der-fabelen/
CATEGORIES:Event,Expositie
ATTACH;FMTTYPE=image/png:https://vijversburg.nl/wp-content/uploads/2025/06/Event-blok-Home-Park-der-Fabelen.png
END:VEVENT
BEGIN:VEVENT
DTSTART;TZID=Europe/Amsterdam:20250713T120000
DTEND;TZID=Europe/Amsterdam:20250713T160000
DTSTAMP:20260426T001303
CREATED:20250710T152316Z
LAST-MODIFIED:20250710T152317Z
UID:9034-1752408000-1752422400@vijversburg.nl
SUMMARY:Open Imkerijdag
DESCRIPTION:In “Het Park der Fabelen” ontmoet je deze zondag niet alleen fabelwezens\, maar kun je ook echte natuurwonderen ontdekken. Ga met onze imkers op bezoek bij de bijenkassen en neem een kijkje in de wondere wereld van de bij. \n\n\n\nWat kun je verwachten? \n\n\n\n\nOntmoet de imkers en leer alles over het belang van bijen.\n\n\n\nProef lokale honing en ontdek hoe honing wordt gemaakt.\n\n\n\nMaak je eigen kaars van was.\n\n\n\n\nDe toegang tot de Open Imkerijdag is inbegrepen bij een bezoek aan de tentoonstelling.
URL:https://vijversburg.nl/event/open-imkerijdag-2/
CATEGORIES:Event
ATTACH;FMTTYPE=image/jpeg:https://vijversburg.nl/wp-content/uploads/2025/07/freek-met-bijen-e1561375801537-900x480-1.jpg
END:VEVENT
END:VCALENDAR