BEGIN:VCALENDAR
VERSION:2.0
PRODID:-//Park Vijversburg - ECPv6.15.20//NONSGML v1.0//EN
CALSCALE:GREGORIAN
METHOD:PUBLISH
X-WR-CALNAME:Park Vijversburg
X-ORIGINAL-URL:https://vijversburg.nl
X-WR-CALDESC:Evenementen voor Park Vijversburg
REFRESH-INTERVAL;VALUE=DURATION:PT1H
X-Robots-Tag:noindex
X-PUBLISHED-TTL:PT1H
BEGIN:VTIMEZONE
TZID:Europe/Amsterdam
BEGIN:DAYLIGHT
TZOFFSETFROM:+0100
TZOFFSETTO:+0200
TZNAME:CEST
DTSTART:20240331T010000
END:DAYLIGHT
BEGIN:STANDARD
TZOFFSETFROM:+0200
TZOFFSETTO:+0100
TZNAME:CET
DTSTART:20241027T010000
END:STANDARD
BEGIN:DAYLIGHT
TZOFFSETFROM:+0100
TZOFFSETTO:+0200
TZNAME:CEST
DTSTART:20250330T010000
END:DAYLIGHT
BEGIN:STANDARD
TZOFFSETFROM:+0200
TZOFFSETTO:+0100
TZNAME:CET
DTSTART:20251026T010000
END:STANDARD
BEGIN:DAYLIGHT
TZOFFSETFROM:+0100
TZOFFSETTO:+0200
TZNAME:CEST
DTSTART:20260329T010000
END:DAYLIGHT
BEGIN:STANDARD
TZOFFSETFROM:+0200
TZOFFSETTO:+0100
TZNAME:CET
DTSTART:20261025T010000
END:STANDARD
END:VTIMEZONE
BEGIN:VEVENT
DTSTART;TZID=Europe/Amsterdam:20250609T110000
DTEND;TZID=Europe/Amsterdam:20250609T170000
DTSTAMP:20260425T210254
CREATED:20250331T152108Z
LAST-MODIFIED:20250602T065748Z
UID:7965-1749466800-1749488400@vijversburg.nl
SUMMARY:Pinkstermaandag: Dag van het Kasteel
DESCRIPTION:Kom Pinkstermaandag naar Park Vijversburg en beleef samen met ons de “Dag van het Kasteel”. Het landelijke thema dit jaar is “Naar Buiten” en dat gaan we ook doen. Ontdek hoe tuinen\, parken en landgoederen eeuwenlang zijn gebruikt voor plezier\, ontspanning en ook voedsel.  \n\n\n\n\nDe tuin voor het plezier: Wandel langs de prachtige plantenborders en ontdek hoe de tuin vroeger een plek was om te flaneren\, te spelen en tot rust te komen. Op verschillende plekken kunnen spelletjes van vroeger worden gespeeld en op de grote vijver liggen roeibootjes voor een romantisch tochtje over het water. \n\n\n\nHet park voor de wandeling: Dwaal over de vele slingerpaden van het Engelse landschapspark. Onderweg kun je deelnemen aan een fotospeurtocht met historische beelden van het landgoed. Wil je meer informatie over vroeger\, dan kun je ook deelnemen aan de audiotour door hier te klikken.\n\n\n\nHet landgoed voor het voedsel: Ontmoet de imkers\, leer alles over de bijen en hoe zij bijdragen aan een gezonde natuur en een goed gevulde keukentafel. Kinderen kunnen hun eigen waskaars maken. \n\n\n\nDe Oranjerie: De Oranjerie was vroeger een plek waar de meest exotische planten stonden\, waar sinaasappelen en druiven groeiden voor de bewoners van Villa Vijversburg. Ook werd de Oranjerie gebruikt om ’s winters de kuipplanten te bewaren. Dat wordt heden ten dagen nog steeds gedaan en zo zijn de agaves onlangs weer vanuit de Oranjerie naar de tuinen rondom de Villa gegaan. In Oranjerie is tegenwoordig een bijzondere cactusverzameling te bewonderen. \n\n\n\n\nSluit de dag af met een bezoek aan de theesalon in Villa Vijversburg en drink onder toeziend oog van de erflater Age Looxma-Ypeij een heerlijk kopje thee. \n\n\n\nFoto: Tineke Hoekstra
URL:https://vijversburg.nl/event/pinkstermaandag-dag-van-het-kasteel/
CATEGORIES:Event
ATTACH;FMTTYPE=image/jpeg:https://vijversburg.nl/wp-content/uploads/2025/03/Dag-vh-kasteel.jpg
END:VEVENT
BEGIN:VEVENT
DTSTART;TZID=Europe/Amsterdam:20250621T170000
DTEND;TZID=Europe/Amsterdam:20250621T220000
DTSTAMP:20260425T210254
CREATED:20250331T152349Z
LAST-MODIFIED:20250522T112344Z
UID:7968-1750525200-1750543200@vijversburg.nl
SUMMARY:Mid Simmer Art Festival
DESCRIPTION:Vier de langste dag met kunst en muziek in Park Vijversburg. Op zaterdag 21 juni is het park extra lang geopend en kun je genieten van kunst en muziek. Het park\, dat normaal gesproken geopend is tot 18.00 uur\, is deze dag extra lang geopend. Vanaf 17.00 – 22.00 uur wordt het Mid Simmer Art Festival georganiseerd. \n\n\n\nBezoek meer dan 40 kraampjes gevuld met de mooiste kunstwerken van regionale kunstenaars. Laat je inspireren en doe mee aan één van de korte workshops\, maak zelf een gedicht en geniet van de muziek.  Laat je rondleiden langs de kunstwerken die prachtig zijn samengesmeed met de natuur en wie weet krijg je een date met een kunstwerk. \n\n\n\nDe avond wordt afgesloten met een prachtig concert op het open podium verzorgd door het strijkkwartet Regina Forte. De vier dames nemen u graag mee op een muzikale reis door de tijd. Van Barok tot de 21-ste eeuwse muziek waarbij pure muzikale schoonheid de boventoon voert. Een prachtig concert op het minimalistische open podium omlijst met de schoonheid van het park. Puur\, intiem en onvergetelijk.  \n\n\n\nEntree: € 5\,- vanaf 12 jaar. Tot 12 jaar € 2\,50 en met vriendenkaart € 2\,50 korting.
URL:https://vijversburg.nl/event/mid-simmer-art-festival/
CATEGORIES:Event
ATTACH;FMTTYPE=image/jpeg:https://vijversburg.nl/wp-content/uploads/2025/03/Art-Vijversburg_2641-kopie╠eren39.jpg
END:VEVENT
END:VCALENDAR