BEGIN:VCALENDAR
VERSION:2.0
PRODID:-//Park Vijversburg - ECPv6.15.20//NONSGML v1.0//EN
CALSCALE:GREGORIAN
METHOD:PUBLISH
X-ORIGINAL-URL:https://vijversburg.nl
X-WR-CALDESC:Evenementen voor Park Vijversburg
REFRESH-INTERVAL;VALUE=DURATION:PT1H
X-Robots-Tag:noindex
X-PUBLISHED-TTL:PT1H
BEGIN:VTIMEZONE
TZID:Europe/Amsterdam
BEGIN:DAYLIGHT
TZOFFSETFROM:+0100
TZOFFSETTO:+0200
TZNAME:CEST
DTSTART:20240331T010000
END:DAYLIGHT
BEGIN:STANDARD
TZOFFSETFROM:+0200
TZOFFSETTO:+0100
TZNAME:CET
DTSTART:20241027T010000
END:STANDARD
BEGIN:DAYLIGHT
TZOFFSETFROM:+0100
TZOFFSETTO:+0200
TZNAME:CEST
DTSTART:20250330T010000
END:DAYLIGHT
BEGIN:STANDARD
TZOFFSETFROM:+0200
TZOFFSETTO:+0100
TZNAME:CET
DTSTART:20251026T010000
END:STANDARD
BEGIN:DAYLIGHT
TZOFFSETFROM:+0100
TZOFFSETTO:+0200
TZNAME:CEST
DTSTART:20260329T010000
END:DAYLIGHT
BEGIN:STANDARD
TZOFFSETFROM:+0200
TZOFFSETTO:+0100
TZNAME:CET
DTSTART:20261025T010000
END:STANDARD
END:VTIMEZONE
BEGIN:VEVENT
DTSTART;TZID=Europe/Amsterdam:20250518T130000
DTEND;TZID=Europe/Amsterdam:20250518T170000
DTSTAMP:20260425T222738
CREATED:20250331T151627Z
LAST-MODIFIED:20250401T062423Z
UID:7960-1747573200-1747587600@vijversburg.nl
SUMMARY:SamSam-festival
DESCRIPTION:Kom zondag 18 mei naar het gratis SamSam-festival in Park Vijversburg van 13.00 – 17.00 uur. Muziek op meerdere podia\, leuke workshops\, de kidscorner en nog veel meer dingen te zien en te beleven. Artiesten met en zonder beperking laten zien wat ze kunnen. \n\n\n\nStichting Wauw organiseert dit festival voor de integratie van mensen met een (verstandelijke) beperking waarbij artiesten en vrijwilligers belangeloos meedoen. Alweer voor de vierde keer wordt dit vrolijke festival in het park georganiseerd rondom het open podium en Villa Vijversburg.  \n\n\n\nKennismaken met elkaar door samen leuke dingen te doen! Kom jij ook? 
URL:https://vijversburg.nl/event/samsam-festival/
CATEGORIES:Event
ATTACH;FMTTYPE=image/jpeg:https://vijversburg.nl/wp-content/uploads/2025/03/Foto-agenda-Vijversburg.jpg
END:VEVENT
BEGIN:VEVENT
DTSTART;TZID=Europe/Amsterdam:20250529T100000
DTEND;TZID=Europe/Amsterdam:20250529T120000
DTSTAMP:20260425T222738
CREATED:20250331T151802Z
LAST-MODIFIED:20250528T095124Z
UID:7963-1748512800-1748520000@vijversburg.nl
SUMMARY:Hemelvaartsdienst 
DESCRIPTION:Op Hemelvaartsdag wordt traditiegetrouw de openluchtdienst in het park georganiseerd door de PKN-gemeenten Ryptsjerk\, Tytsjerk en Suwâld. De dienst staat dit jaar onder leiding van ds. Binne van der Boon van de PKN in Tytsjerk en Suwâld en begint om 10.00 uur. De band Focus uit Opeinde verzorgt de muzikale omlijsting. De collecte tijdens de dienst is bestemd voor Stichting Voedselbank Tytsjerksteradiel. \n\n\n\nIedereen is van harte welkom\, wel graag zelf een klapstoeltje en/of kussen meenemen. Na de dienst is er gelegenheid om koffie\, thee of ranja te drinken. Bij slecht weer is de viering in de PKN kerk in Tytsjerk. \n\n\n\nHet park is tijdens Hemelvaartsdag de gehele gratis toegankelijk via de hoofdingang vanaf 9.00 uur. Daarbij het verzoek om niet met de fiets het park binnen te gaan en honden zijn niet welkom. \n\n\n\nDe theesalon in Villa Vijversburg is deze dag geopend vanaf 10.30 uur.
URL:https://vijversburg.nl/event/hemelvaartsdienst-2/
CATEGORIES:Event
ATTACH;FMTTYPE=image/jpeg:https://vijversburg.nl/wp-content/uploads/2021/08/hemelvaartdienst-kopie-e1653391923223.jpg
END:VEVENT
END:VCALENDAR